BEGIN:VCALENDAR
VERSION:2.0
PRODID:icalendar-ruby
CALSCALE:GREGORIAN
METHOD:PUBLISH
BEGIN:VEVENT
DTSTAMP:20260420T013603Z
UID:20-4989963@allsaintslutheran.ca
DTSTART:20260923T133000Z
DTEND:20260923T163000Z
CLASS:PUBLIC
CREATED:20260419T213154
DESCRIPTION:
LAST-MODIFIED:20260419T213154
LOCATION:All Saints 1061 Pinecrest 
SUMMARY:Our Bible Study Ministry
URL;VALUE=URI:https://www.allsaintslutheran.ca/events/our-bible-study-minis
 try/2026-09-23
ATTACH;FILENAME=connect.jpg;FMTTYPE=image/jpeg:https://dq5pwpg1q8ru0.cloudf
 ront.net/2022/06/17/19/53/59/539314d2-3ae0-4efc-9e14-c8697cb2181b/connect.
 jpg
END:VEVENT
END:VCALENDAR
