BEGIN:VCALENDAR
VERSION:2.0
PRODID:icalendar-ruby
CALSCALE:GREGORIAN
METHOD:PUBLISH
BEGIN:VEVENT
DTSTAMP:20260420T000037Z
UID:20-4987407@allsaintslutheran.ca
DTSTART:20260916T133000Z
DTEND:20260916T163000Z
CLASS:PUBLIC
CREATED:20260419T175108
DESCRIPTION:
LAST-MODIFIED:20260419T175108
LOCATION:All Saints 1061 Pinecrest 
SUMMARY:Our Bible Study Ministry
URL;VALUE=URI:https://www.allsaintslutheran.ca/events/our-bible-study-minis
 try/2026-09-16
ATTACH;FILENAME=connect.jpg;FMTTYPE=image/jpeg:https://dq5pwpg1q8ru0.cloudf
 ront.net/2022/06/17/19/53/59/539314d2-3ae0-4efc-9e14-c8697cb2181b/connect.
 jpg
END:VEVENT
END:VCALENDAR
